BEGIN:VCALENDAR
PRODID:-//eluceo/ical//2.0/EN
VERSION:2.0
CALSCALE:GREGORIAN
BEGIN:VEVENT
UID:484bd9f91a0b019b293a7bb46c9fd59a
DTSTAMP:20260425T130632Z
SUMMARY:GTWC EU - Monza
DTSTART;VALUE=DATE:20260530
DTEND;VALUE=DATE:20260601
END:VEVENT
END:VCALENDAR
