BEGIN:VCALENDAR
PRODID:-//eluceo/ical//2.0/EN
VERSION:2.0
CALSCALE:GREGORIAN
BEGIN:VEVENT
UID:7ead5d5a0fb3e9e434b5c2491928cf03
DTSTAMP:20260424T043929Z
SUMMARY:GTWC EU - 24h Spa
DTSTART;TZID=Europe/Berlin:20260624T163000
DTEND;TZID=Europe/Berlin:20260628T163000
END:VEVENT
END:VCALENDAR
